BEGIN:VCALENDAR
VERSION:2.0
PRODID:-//wp-events-plugin.com//7.2.3.1//EN
BEGIN:VEVENT
UID:4@brassandco.com
DTSTART:20241116T000000Z
DTEND:20241116T000000Z
DTSTAMP:20240927T092104Z
URL:https://brassandco.com/events/november-2024/
SUMMARY:November 2024
DESCRIPTION:City Hall\, CorkExperience Brass and Co. live at this prestigio
 us venue.
LOCATION:Dublin\, City Hall\, Cork\, Dublin\, Dublin\, Ireland
X-APPLE-STRUCTURED-LOCATION;VALUE=URI;X-ADDRESS=City Hall\, Cork\, Dublin\,
  Dublin\, Ireland;X-APPLE-RADIUS=100;X-TITLE=Dublin:geo:0,0
END:VEVENT
END:VCALENDAR