BEGIN:VCALENDAR
VERSION:2.0
PRODID:-//wp-events-plugin.com//7.2.3.1//EN
BEGIN:VEVENT
UID:2@brassandco.com
DTSTART:20241016T030000Z
DTEND:20241016T030000Z
DTSTAMP:20241015T110138Z
URL:https://brassandco.com/events/october-2024/
SUMMARY:October 2024
DESCRIPTION:O’Reilly’s Pub\, DublinJoin us for a night of great music a
 nd fun
LOCATION:Dublin\, O’Reilly’s Pub\, Dublin\, Dublin\, Ireland
X-APPLE-STRUCTURED-LOCATION;VALUE=URI;X-ADDRESS=O’Reilly’s Pub\, Dublin
 \, Dublin\, Ireland;X-APPLE-RADIUS=100;X-TITLE=Dublin:geo:0,0
END:VEVENT
END:VCALENDAR